View In:
ArcGIS JavaScript
ArcGIS Online Map Viewer
ArcGIS Earth
ArcMap
View Footprint In:
ArcGIS Online Map Viewer
Service Description: This data set is a hillshade model for Arizona. The data were created by processing U.S.Geological Survey 10 meter Digital Elevation Model files for all of the 7.5 minute quadrangle map areas in Arizona. The processing produced ESRI formatted lattice files for each quadrangle. These were then merged based on county boundaries. The lattice blocks were then processed through a hillshade model in ARC/INFO to produce hillshade TIF files.
Name: asld/Arizona_10m_Hillshade
Description: This data set is a hillshade model for Arizona. The data were created by processing U.S.Geological Survey 10 meter Digital Elevation Model files for all of the 7.5 minute quadrangle map areas in Arizona. The processing produced ESRI formatted lattice files for each quadrangle. These were then merged based on county boundaries. The lattice blocks were then processed through a hillshade model in ARC/INFO to produce hillshade TIF files.
Single Fused Map Cache: false
Extent:
XMin: -1.2785792727919282E7
YMin: 3674264.7577339713
XMax: -1.2130207311393393E7
YMax: 4443227.597774773
Spatial Reference: 102100
(3857)
Initial Extent:
XMin: -1.2785792727919282E7
YMin: 3674264.7577339713
XMax: -1.2130207311393393E7
YMax: 4443227.597774773
Spatial Reference: 102100
(3857)
Full Extent:
XMin: -1.2785792727919282E7
YMin: 3674264.7577339713
XMax: -1.2130207311393393E7
YMax: 4443227.597774773
Spatial Reference: 102100
(3857)
Pixel Size X: 13.02134022932626
Pixel Size Y: 12.332213491368663
Band Count: 1
Pixel Type: U8
RasterFunction Infos: {"rasterFunctionInfos": [{
"name": "None",
"description": "",
"help": ""
}]}
Mensuration Capabilities: Basic
Has Histograms: false
Has Colormap: false
Has Multi Dimensions : false
Rendering Rule:
Min Scale: 0
Max Scale: 0
Copyright Text: USGS
Service Data Type: esriImageServiceDataTypeGeneric
Min Values: N/A
Max Values: N/A
Mean Values: N/A
Standard Deviation Values: N/A
Object ID Field:
Fields:
None
Default Mosaic Method: Center
Allowed Mosaic Methods:
SortField:
SortValue: null
Mosaic Operator: First
Default Compression Quality: 75
Default Resampling Method: Bilinear
Max Record Count: null
Max Image Height: 4100
Max Image Width: 15000
Max Download Image Count: null
Max Mosaic Image Count: null
Allow Raster Function: true
Allow Compute TiePoints: false
Supports Statistics: false
Supports Advanced Queries: false
Use StandardizedQueries: true
Raster Type Infos:
Name: Raster Dataset
Description: Supports all ArcGIS Raster Datasets
Help:
Has Raster Attribute Table: false
Edit Fields Info: null
Ownership Based AccessControl For Rasters: null
Child Resources:
Info
Key Properties
Legend
MultiDimensionalInfo
rasterFunctionInfos
Supported Operations:
Export Image
Identify
Measure
Compute Histograms
Compute Statistics Histograms
Get Samples
Compute Class Statistics
Query Boundary
Compute Pixel Location