{ "currentVersion": 10.71, "serviceDescription": "
This data set is a hillshade model for Arizona. The data were created by processing U.S.Geological Survey 10 meter Digital Elevation Model files for all of the 7.5 minute quadrangle map areas in Arizona. The processing produced ESRI formatted lattice files for each quadrangle. These were then merged based on county boundaries. The lattice blocks were then processed through a hillshade model in ARC/INFO to produce hillshade TIF files. <\/span><\/p><\/div><\/div><\/div>",
"name": "asld/Arizona_10m_Hillshade",
"description": " This data set is a hillshade model for Arizona. The data were created by processing U.S.Geological Survey 10 meter Digital Elevation Model files for all of the 7.5 minute quadrangle map areas in Arizona. The processing produced ESRI formatted lattice files for each quadrangle. These were then merged based on county boundaries. The lattice blocks were then processed through a hillshade model in ARC/INFO to produce hillshade TIF files. <\/span><\/p><\/div><\/div><\/div>",
"extent": {
"xmin": -1.2785792727919282E7,
"ymin": 3674264.7577339713,
"xmax": -1.2130207311393393E7,
"ymax": 4443227.597774773,
"spatialReference": {
"wkid": 102100,
"latestWkid": 3857
}
},
"initialExtent": {
"xmin": -1.2785792727919282E7,
"ymin": 3674264.7577339713,
"xmax": -1.2130207311393393E7,
"ymax": 4443227.597774773,
"spatialReference": {
"wkid": 102100,
"latestWkid": 3857
}
},
"fullExtent": {
"xmin": -1.2785792727919282E7,
"ymin": 3674264.7577339713,
"xmax": -1.2130207311393393E7,
"ymax": 4443227.597774773,
"spatialReference": {
"wkid": 102100,
"latestWkid": 3857
}
},
"pixelSizeX": 13.02134022932626,
"pixelSizeY": 12.332213491368663,
"bandCount": 1,
"pixelType": "U8",
"minPixelSize": 0,
"maxPixelSize": 0,
"copyrightText": "USGS",
"serviceDataType": "esriImageServiceDataTypeGeneric",
"minValues": [],
"maxValues": [],
"meanValues": [],
"stdvValues": [],
"objectIdField": "",
"fields": [],
"capabilities": "Mensuration,Image,Metadata",
"defaultMosaicMethod": "Center",
"allowedMosaicMethods": "",
"sortField": "",
"sortValue": null,
"mosaicOperator": "First",
"defaultCompressionQuality": 75,
"defaultResamplingMethod": "Bilinear",
"maxImageHeight": 4100,
"maxImageWidth": 15000,
"allowRasterFunction": true,
"rasterFunctionInfos": [
{
"name": "None",
"description": "",
"help": ""
}
],
"rasterTypeInfos": [
{
"name": "Raster Dataset",
"description": "Supports all ArcGIS Raster Datasets",
"help": ""
}
],
"mensurationCapabilities": "Basic",
"hasHistograms": false,
"hasColormap": false,
"hasRasterAttributeTable": false,
"minScale": 0,
"maxScale": 0,
"exportTilesAllowed": false,
"hasMultidimensions": false,
"supportsStatistics": false,
"supportsAdvancedQueries": false,
"editFieldsInfo": null,
"ownershipBasedAccessControlForRasters": null,
"allowComputeTiePoints": false,
"useStandardizedQueries": true,
"advancedQueryCapabilities": {
"useStandardizedQueries": true,
"supportsStatistics": false,
"supportsOrderBy": false,
"supportsDistinct": false,
"supportsPagination": false
},
"spatialReference": {
"wkid": 102100,
"latestWkid": 3857
}
}