View In:
ArcGIS JavaScript
ArcGIS Online Map Viewer
ArcGIS Earth
ArcMap
View Footprint In:
ArcGIS Online Map Viewer
Service Description: Wildland Development Areas reflects housing density depicting where people live in the wildland. An urban mask which excludes the core urban area that are not in the neighborhood or threatened by fire burning in wildland fuels.area has been applied where values in these urban areas have been reclassed to no data. This dataset was developed for the West Wide Wildfire Risk Assessment (WWA) project.
This data (WDARC) represents housing density per 30 sq meters recoded into 7 classes.The classes are:
1 (0.000001 to 6.177635) Less than 1 HU / 40 acres
2 (6.177635 to 12.355269) 1 HU / 40 acres to 1 HU / 20 acres
3 (12.355269 to 24.710538) 1 HU / 20 acres to 1 HU / 10 acres
4 (24.710538 to 49.42) 1 HU / 10 acres to 1 HU / 5 acres
5 (49.42 to 123.55269) 1 HU / 5 acres to 1 HU / 2 acres 6 (123.55269 to 741.31614) 1 HU / 2 acres to 3 HU / acre
7 (741.31614 to 100,000) More than 3 HU / acre This dataset was developed for the West Wide Wildfire Risk Assessment (WWA) project.
Name: AZWRAP/WildlandDevelopmentAreas
Description: Wildland Development Areas reflects housing density depicting where people live in the wildland. An urban mask which excludes the core urban area that are not in the neighborhood or threatened by fire burning in wildland fuels.area has been applied where values in these urban areas have been reclassed to no data. This dataset was developed for the West Wide Wildfire Risk Assessment (WWA) project.
This data (WDARC) represents housing density per 30 sq meters recoded into 7 classes.The classes are:
1 (0.000001 to 6.177635) Less than 1 HU / 40 acres
2 (6.177635 to 12.355269) 1 HU / 40 acres to 1 HU / 20 acres
3 (12.355269 to 24.710538) 1 HU / 20 acres to 1 HU / 10 acres
4 (24.710538 to 49.42) 1 HU / 10 acres to 1 HU / 5 acres
5 (49.42 to 123.55269) 1 HU / 5 acres to 1 HU / 2 acres 6 (123.55269 to 741.31614) 1 HU / 2 acres to 3 HU / acre
7 (741.31614 to 100,000) More than 3 HU / acre This dataset was developed for the West Wide Wildfire Risk Assessment (WWA) project.
Single Fused Map Cache: false
Extent:
XMin: 63702.51879809389
YMin: 3387058.9717966616
XMax: 771972.5187980939
YMax: 4166998.9717966616
Spatial Reference: 26912
(26912)
Initial Extent:
XMin: 63702.51879809389
YMin: 3387058.9717966616
XMax: 771972.5187980939
YMax: 4166998.9717966616
Spatial Reference: 26912
(26912)
Full Extent:
XMin: 63702.51879809389
YMin: 3387058.9717966616
XMax: 771972.5187980939
YMax: 4166998.9717966616
Spatial Reference: 26912
(26912)
Pixel Size X: 30.0
Pixel Size Y: 30.0
Band Count: 1
Pixel Type: S8
RasterFunction Infos: {"rasterFunctionInfos": [
{
"name": "WildlandDevelopmentAreasWUI",
"description": "A raster function template.",
"help": ""
},
{
"name": "None",
"description": "",
"help": ""
}
]}
Mensuration Capabilities: Basic
Has Histograms: true
Has Colormap: false
Has Multi Dimensions : false
Rendering Rule:
Min Scale: 0
Max Scale: 0
Copyright Text:
Service Data Type: esriImageServiceDataTypeGeneric
Min Values: 1
Max Values: 7
Mean Values: 2.8906500930688748
Standard Deviation Values: 1.759558851829062
Object ID Field:
Fields:
None
Default Mosaic Method: Center
Allowed Mosaic Methods:
SortField:
SortValue: null
Mosaic Operator: First
Default Compression Quality: 75
Default Resampling Method: Bilinear
Max Record Count: null
Max Image Height: 4100
Max Image Width: 15000
Max Download Image Count: null
Max Mosaic Image Count: null
Allow Raster Function: true
Allow Compute TiePoints: false
Supports Statistics: false
Supports Advanced Queries: false
Use StandardizedQueries: true
Raster Type Infos:
Name: Raster Dataset
Description: Supports all ArcGIS Raster Datasets
Help:
Has Raster Attribute Table: true
Edit Fields Info: null
Ownership Based AccessControl For Rasters: null
Child Resources:
Info
Raster Attribute Table
Histograms
Key Properties
Legend
MultiDimensionalInfo
rasterFunctionInfos
Supported Operations:
Export Image
Identify
Measure
Compute Histograms
Compute Statistics Histograms
Get Samples
Compute Class Statistics
Query Boundary
Compute Pixel Location