View In:
ArcGIS JavaScript
ArcGIS Online Map Viewer
ArcGIS Earth
ArcMap
View Footprint In:
ArcGIS Online Map Viewer
Service Description: The Riparian Assets Response Function Score represents a relative measure of the impact of fire on Infrastructure Assets based on the response function values provided by the states. Response functions are a method of assigning a net change in the value to a resource or asset based on susceptibility to fire of different intensity levels. The assets in the WWA are the values datasets and each one has a corresponding response function output, or score. The Response Function Score for each values dataset will be a number from 0 to -9, with a more negative number indicating a more negative impact from fire. Positive effects from fire were not considered in the West Wide Risk Assessment.
Name: AZWRAP/RiparianAssetImpacts
Description: The Riparian Assets Response Function Score represents a relative measure of the impact of fire on Infrastructure Assets based on the response function values provided by the states. Response functions are a method of assigning a net change in the value to a resource or asset based on susceptibility to fire of different intensity levels. The assets in the WWA are the values datasets and each one has a corresponding response function output, or score. The Response Function Score for each values dataset will be a number from 0 to -9, with a more negative number indicating a more negative impact from fire. Positive effects from fire were not considered in the West Wide Risk Assessment.
Single Fused Map Cache: false
Extent:
XMin: 63702.51879809389
YMin: 3387058.9717966616
XMax: 771972.5187980939
YMax: 4166998.9717966616
Spatial Reference: 26912
(26912)
Initial Extent:
XMin: 63702.51879809389
YMin: 3387058.9717966616
XMax: 771972.5187980939
YMax: 4166998.9717966616
Spatial Reference: 26912
(26912)
Full Extent:
XMin: 63702.51879809389
YMin: 3387058.9717966616
XMax: 771972.5187980939
YMax: 4166998.9717966616
Spatial Reference: 26912
(26912)
Pixel Size X: 30.0
Pixel Size Y: 30.0
Band Count: 1
Pixel Type: F32
RasterFunction Infos: {"rasterFunctionInfos": [
{
"name": "RiparianAssetImpacts",
"description": "A raster function template.",
"help": ""
},
{
"name": "None",
"description": "",
"help": ""
}
]}
Mensuration Capabilities: Basic
Has Histograms: true
Has Colormap: false
Has Multi Dimensions : false
Rendering Rule:
Min Scale: 0
Max Scale: 0
Copyright Text:
Service Data Type: esriImageServiceDataTypeGeneric
Min Values: -7.656251430511475
Max Values: -0.17186994850635529
Mean Values: -1.8611901531187678
Standard Deviation Values: 1.3816606488085263
Object ID Field:
Fields:
None
Default Mosaic Method: Center
Allowed Mosaic Methods:
SortField:
SortValue: null
Mosaic Operator: First
Default Compression Quality: 75
Default Resampling Method: Bilinear
Max Record Count: null
Max Image Height: 4100
Max Image Width: 15000
Max Download Image Count: null
Max Mosaic Image Count: null
Allow Raster Function: true
Allow Compute TiePoints: false
Supports Statistics: false
Supports Advanced Queries: false
Use StandardizedQueries: true
Raster Type Infos:
Name: Raster Dataset
Description: Supports all ArcGIS Raster Datasets
Help:
Has Raster Attribute Table: false
Edit Fields Info: null
Ownership Based AccessControl For Rasters: null
Child Resources:
Info
Histograms
Key Properties
Legend
MultiDimensionalInfo
rasterFunctionInfos
Supported Operations:
Export Image
Identify
Measure
Compute Histograms
Compute Statistics Histograms
Get Samples
Compute Class Statistics
Query Boundary
Compute Pixel Location