View In:
ArcGIS JavaScript
ArcGIS Online Map Viewer
ArcGIS Earth
ArcMap
View Footprint In:
ArcGIS Online Map Viewer
Service Description: The Probability of Canopy Fire dataset is the sum of the proportion of fires for the percentile weather categories where the predicted fire type is passive or active. Fire Type is a fire behavior output generated during the calculation of the Fire Threat Index (FTI). Fire type categorizes the fire by mode of propagation - surface fires and crown fires. Crown fires have further been classified as either passive or active. Surface fires are defined as a fire that spreads through surface fuel without consuming any overlying canopy fuel. Surface fuels include grass, timber litter, shrub/brush, slash and other dead or live vegetation within about 6 feet of the ground. Passive crown fires are defined as a type of crown fire in which the crowns of individual trees or small groups of trees burn, but solid flaming in the canopy cannot be maintained except for short periods.
Active crown fires are defined as a type of crown fire in which the entire fuel complex (canopy) is involved in flame, but the crowning phase remains dependent on heat released from surface fuel for continued spread.
Fire behavior outputs are influenced by three environmental factors - fuels, weather, and topography. Weather is by far the most dynamic variable as it changes frequently. To account for this variability, four weather percentiles categories were created from historical weather observations to represent low, moderate, high, and extreme weather days for each weather influence zone. A weather influence zone is an area where, for analysis purposes, the weather on any given day is considered uniform. Fire behavior outputs (fire type, rate of spread, and flame length) are computed for each of these percentile weather categories in order to determine potential fire behavior under different weather scenarios.
Name: AZWRAP/ProbabilityOfCanopyFire
Description: The Probability of Canopy Fire dataset is the sum of the proportion of fires for the percentile weather categories where the predicted fire type is passive or active. Fire Type is a fire behavior output generated during the calculation of the Fire Threat Index (FTI). Fire type categorizes the fire by mode of propagation - surface fires and crown fires. Crown fires have further been classified as either passive or active. Surface fires are defined as a fire that spreads through surface fuel without consuming any overlying canopy fuel. Surface fuels include grass, timber litter, shrub/brush, slash and other dead or live vegetation within about 6 feet of the ground. Passive crown fires are defined as a type of crown fire in which the crowns of individual trees or small groups of trees burn, but solid flaming in the canopy cannot be maintained except for short periods.
Active crown fires are defined as a type of crown fire in which the entire fuel complex (canopy) is involved in flame, but the crowning phase remains dependent on heat released from surface fuel for continued spread.
Fire behavior outputs are influenced by three environmental factors - fuels, weather, and topography. Weather is by far the most dynamic variable as it changes frequently. To account for this variability, four weather percentiles categories were created from historical weather observations to represent low, moderate, high, and extreme weather days for each weather influence zone. A weather influence zone is an area where, for analysis purposes, the weather on any given day is considered uniform. Fire behavior outputs (fire type, rate of spread, and flame length) are computed for each of these percentile weather categories in order to determine potential fire behavior under different weather scenarios.
Single Fused Map Cache: false
Extent:
XMin: 63702.51879809389
YMin: 3387058.9717966616
XMax: 771972.5187980939
YMax: 4166998.9717966616
Spatial Reference: 26912
(26912)
Initial Extent:
XMin: 63702.51879809389
YMin: 3387058.9717966616
XMax: 771972.5187980939
YMax: 4166998.9717966616
Spatial Reference: 26912
(26912)
Full Extent:
XMin: 63702.51879809389
YMin: 3387058.9717966616
XMax: 771972.5187980939
YMax: 4166998.9717966616
Spatial Reference: 26912
(26912)
Pixel Size X: 30.0
Pixel Size Y: 30.0
Band Count: 1
Pixel Type: F32
RasterFunction Infos: {"rasterFunctionInfos": [
{
"name": "ProbabilityofCanopyFire",
"description": "A raster function template.",
"help": ""
},
{
"name": "None",
"description": "",
"help": ""
}
]}
Mensuration Capabilities: Basic
Has Histograms: true
Has Colormap: false
Has Multi Dimensions : false
Rendering Rule:
Min Scale: 0
Max Scale: 0
Copyright Text:
Service Data Type: esriImageServiceDataTypeGeneric
Min Values: 0
Max Values: 0.9286159873008728
Mean Values: 0.09248788897539645
Standard Deviation Values: 0.26394178628673715
Object ID Field:
Fields:
None
Default Mosaic Method: Center
Allowed Mosaic Methods:
SortField:
SortValue: null
Mosaic Operator: First
Default Compression Quality: 75
Default Resampling Method: Bilinear
Max Record Count: null
Max Image Height: 4100
Max Image Width: 15000
Max Download Image Count: null
Max Mosaic Image Count: null
Allow Raster Function: true
Allow Compute TiePoints: false
Supports Statistics: false
Supports Advanced Queries: false
Use StandardizedQueries: true
Raster Type Infos:
Name: Raster Dataset
Description: Supports all ArcGIS Raster Datasets
Help:
Has Raster Attribute Table: false
Edit Fields Info: null
Ownership Based AccessControl For Rasters: null
Child Resources:
Info
Histograms
Key Properties
Legend
MultiDimensionalInfo
rasterFunctionInfos
Supported Operations:
Export Image
Identify
Measure
Compute Histograms
Compute Statistics Histograms
Get Samples
Compute Class Statistics
Query Boundary
Compute Pixel Location