View In:
ArcGIS JavaScript
ArcGIS Online Map Viewer
ArcGIS Earth
ArcMap
View Footprint In:
ArcGIS Online Map Viewer
Service Description: Infrastructure Assets. This layer identifies key Infrastructure Assets, such as schools, airports, hospitals, roads and railroads that are susceptible to adverse effects from wildfires. These features are combined into a single data set, buffered to reflect areas of concern surrounding the assets, and rasterized from polygons. Roads and railroads use a 300-meter buffer while schools, airports and hospitals use a 500-meter buffer. Values are 1.
Name: AZWRAP/InfrastructureAssets
Description: Infrastructure Assets. This layer identifies key Infrastructure Assets, such as schools, airports, hospitals, roads and railroads that are susceptible to adverse effects from wildfires. These features are combined into a single data set, buffered to reflect areas of concern surrounding the assets, and rasterized from polygons. Roads and railroads use a 300-meter buffer while schools, airports and hospitals use a 500-meter buffer. Values are 1.
Single Fused Map Cache: false
Extent:
XMin: 63702.51879809389
YMin: 3387058.9717966616
XMax: 771972.5187980939
YMax: 4166998.9717966616
Spatial Reference: 26912
(26912)
Initial Extent:
XMin: 63702.51879809389
YMin: 3387058.9717966616
XMax: 771972.5187980939
YMax: 4166998.9717966616
Spatial Reference: 26912
(26912)
Full Extent:
XMin: 63702.51879809389
YMin: 3387058.9717966616
XMax: 771972.5187980939
YMax: 4166998.9717966616
Spatial Reference: 26912
(26912)
Pixel Size X: 30.0
Pixel Size Y: 30.0
Band Count: 1
Pixel Type: S8
RasterFunction Infos: {"rasterFunctionInfos": [
{
"name": "InfrastructureAssets",
"description": "A raster function template.",
"help": ""
},
{
"name": "None",
"description": "",
"help": ""
}
]}
Mensuration Capabilities: Basic
Has Histograms: true
Has Colormap: false
Has Multi Dimensions : false
Rendering Rule:
Min Scale: 0
Max Scale: 0
Copyright Text:
Service Data Type: esriImageServiceDataTypeGeneric
Min Values: 1
Max Values: 1
Mean Values: 1
Standard Deviation Values: 0
Object ID Field:
Fields:
None
Default Mosaic Method: Center
Allowed Mosaic Methods:
SortField:
SortValue: null
Mosaic Operator: First
Default Compression Quality: 75
Default Resampling Method: Bilinear
Max Record Count: null
Max Image Height: 4100
Max Image Width: 15000
Max Download Image Count: null
Max Mosaic Image Count: null
Allow Raster Function: true
Allow Compute TiePoints: false
Supports Statistics: false
Supports Advanced Queries: false
Use StandardizedQueries: true
Raster Type Infos:
Name: Raster Dataset
Description: Supports all ArcGIS Raster Datasets
Help:
Has Raster Attribute Table: true
Edit Fields Info: null
Ownership Based AccessControl For Rasters: null
Child Resources:
Info
Raster Attribute Table
Histograms
Key Properties
Legend
MultiDimensionalInfo
rasterFunctionInfos
Supported Operations:
Export Image
Identify
Measure
Compute Histograms
Compute Statistics Histograms
Get Samples
Compute Class Statistics
Query Boundary
Compute Pixel Location