View In:
ArcGIS JavaScript
ArcGIS Online Map Viewer
ArcGIS Earth
ArcMap
View Footprint In:
ArcGIS Online Map Viewer
Service Description: The Fire Threat Index (FTI) is a value greater than 0.0 and less than or equal to 1.0. It was developed consistent with the mathematical calculation process for determining the probability of an acre burning. The FTI integrates the probability of an acre igniting and the expected final fire size based on the rate of spread in four weather percentile categories into a single measure of wildland fire susceptibility. Due to some necessary assumptions, mainly fuel homogeneity, it is not the true probability. But since all areas of the project have this value determined consistently, it allows for comparison and ordination of areas of the state as to the likelihood of an acre burning.
Name: AZWRAP/Fire_Threat_Index_Img
Description: The Fire Threat Index (FTI) is a value greater than 0.0 and less than or equal to 1.0. It was developed consistent with the mathematical calculation process for determining the probability of an acre burning. The FTI integrates the probability of an acre igniting and the expected final fire size based on the rate of spread in four weather percentile categories into a single measure of wildland fire susceptibility. Due to some necessary assumptions, mainly fuel homogeneity, it is not the true probability. But since all areas of the project have this value determined consistently, it allows for comparison and ordination of areas of the state as to the likelihood of an acre burning.
Single Fused Map Cache: false
Extent:
XMin: 63702.51879809389
YMin: 3387058.9717966616
XMax: 771972.5187980939
YMax: 4166998.9717966616
Spatial Reference: 26912
(26912)
Initial Extent:
XMin: 63702.51879809389
YMin: 3387058.9717966616
XMax: 771972.5187980939
YMax: 4166998.9717966616
Spatial Reference: 26912
(26912)
Full Extent:
XMin: 63702.51879809389
YMin: 3387058.9717966616
XMax: 771972.5187980939
YMax: 4166998.9717966616
Spatial Reference: 26912
(26912)
Pixel Size X: 30.0
Pixel Size Y: 30.0
Band Count: 1
Pixel Type: F32
RasterFunction Infos: {"rasterFunctionInfos": [
{
"name": "FireThreatIndexClassified",
"description": "A raster function template.",
"help": ""
},
{
"name": "None",
"description": "",
"help": ""
}
]}
Mensuration Capabilities: Basic
Has Histograms: true
Has Colormap: false
Has Multi Dimensions : false
Rendering Rule:
Min Scale: 0
Max Scale: 0
Copyright Text:
Service Data Type: esriImageServiceDataTypeGeneric
Min Values: 1.0204082023790306E-8
Max Values: 1
Mean Values: 0.004815011214241954
Standard Deviation Values: 0.02199410610756227
Object ID Field:
Fields:
None
Default Mosaic Method: Center
Allowed Mosaic Methods:
SortField:
SortValue: null
Mosaic Operator: First
Default Compression Quality: 75
Default Resampling Method: Bilinear
Max Record Count: null
Max Image Height: 4100
Max Image Width: 15000
Max Download Image Count: null
Max Mosaic Image Count: null
Allow Raster Function: true
Allow Compute TiePoints: false
Supports Statistics: false
Supports Advanced Queries: false
Use StandardizedQueries: true
Raster Type Infos:
Name: Raster Dataset
Description: Supports all ArcGIS Raster Datasets
Help:
Has Raster Attribute Table: false
Edit Fields Info: null
Ownership Based AccessControl For Rasters: null
Child Resources:
Info
Histograms
Key Properties
Legend
MultiDimensionalInfo
rasterFunctionInfos
Supported Operations:
Export Image
Identify
Measure
Compute Histograms
Compute Statistics Histograms
Get Samples
Compute Class Statistics
Query Boundary
Compute Pixel Location