View In:
ArcGIS JavaScript
ArcGIS Online Map Viewer
ArcGIS Earth
ArcMap
View Footprint In:
ArcGIS Online Map Viewer
Service Description: A Fire Occurrence Area (FOA) is an area where the probability of each acre igniting is the same. The FOA grids were developed based on historic wildfire location data and are continuous, floating point grids of mean fire ignition rates measured in fires/1000 acres/year. Wildfire point location data was collected for the years 1999 - 2008 and zipcode referenced data (NFIRS and state zipcode referenced fires) was collected for the years 2004 - 2009 (Wyoming zipcode data was for 2000 - 2008), for development of the FOAs. The data was collected from both state and federal agencies. The historical fire location data was then used in a spatial filtering calculation to create the surface grid of mean fire ignition rates.
Name: AZWRAP/FireOccurrenceDensity
Description: A Fire Occurrence Area (FOA) is an area where the probability of each acre igniting is the same. The FOA grids were developed based on historic wildfire location data and are continuous, floating point grids of mean fire ignition rates measured in fires/1000 acres/year. Wildfire point location data was collected for the years 1999 - 2008 and zipcode referenced data (NFIRS and state zipcode referenced fires) was collected for the years 2004 - 2009 (Wyoming zipcode data was for 2000 - 2008), for development of the FOAs. The data was collected from both state and federal agencies. The historical fire location data was then used in a spatial filtering calculation to create the surface grid of mean fire ignition rates.
Single Fused Map Cache: false
Extent:
XMin: 63702.51879809389
YMin: 3387058.9717966616
XMax: 771972.5187980939
YMax: 4166998.9717966616
Spatial Reference: 26912
(26912)
Initial Extent:
XMin: 63702.51879809389
YMin: 3387058.9717966616
XMax: 771972.5187980939
YMax: 4166998.9717966616
Spatial Reference: 26912
(26912)
Full Extent:
XMin: 63702.51879809389
YMin: 3387058.9717966616
XMax: 771972.5187980939
YMax: 4166998.9717966616
Spatial Reference: 26912
(26912)
Pixel Size X: 30.0
Pixel Size Y: 30.0
Band Count: 1
Pixel Type: F32
RasterFunction Infos: {"rasterFunctionInfos": [
{
"name": "FireOccurrenceDensity",
"description": "A raster function template.",
"help": ""
},
{
"name": "None",
"description": "",
"help": ""
}
]}
Mensuration Capabilities: Basic
Has Histograms: true
Has Colormap: false
Has Multi Dimensions : false
Rendering Rule:
Min Scale: 0
Max Scale: 0
Copyright Text:
Service Data Type: esriImageServiceDataTypeGeneric
Min Values: 2.4911367290769704E-5
Max Values: 62.45311737060547
Mean Values: 0.0873930394077003
Standard Deviation Values: 0.3821712497512436
Object ID Field:
Fields:
None
Default Mosaic Method: Center
Allowed Mosaic Methods:
SortField:
SortValue: null
Mosaic Operator: First
Default Compression Quality: 75
Default Resampling Method: Bilinear
Max Record Count: null
Max Image Height: 4100
Max Image Width: 15000
Max Download Image Count: null
Max Mosaic Image Count: null
Allow Raster Function: true
Allow Compute TiePoints: false
Supports Statistics: false
Supports Advanced Queries: false
Use StandardizedQueries: true
Raster Type Infos:
Name: Raster Dataset
Description: Supports all ArcGIS Raster Datasets
Help:
Has Raster Attribute Table: false
Edit Fields Info: null
Ownership Based AccessControl For Rasters: null
Child Resources:
Info
Histograms
Key Properties
Legend
MultiDimensionalInfo
rasterFunctionInfos
Supported Operations:
Export Image
Identify
Measure
Compute Histograms
Compute Statistics Histograms
Get Samples
Compute Class Statistics
Query Boundary
Compute Pixel Location