<?xml version="1.0" encoding="UTF-8" standalone="no"?>
<metadata>
<idinfo>
<citation>
<citeinfo>
<origin>U.S. Geological Survey</origin>
<pubdate>201901</pubdate>
<title>NLCD 2016 Land Cover Conterminous United States</title>
<geoform>remote-sensing image</geoform>
<serinfo>
<sername>None</sername>
<issue>None</issue>
</serinfo>
<pubinfo>
<pubplace>Sioux Falls, SD</pubplace>
<publish>U.S. Geological Survey</publish>
</pubinfo>
<othercit>References: Yang, L., et al. (2018). "A new generation of the United States National Land Cover Database: Requirements, research priorities, design, and implementation strategies." ISPRS Journal of Photogrammetry and Remote Sensing 146: 108-123.</othercit>
<onlink>https://doi.org/10.5066/P937PN4Z</onlink>
<onlink>https://www.mrlc.gov/data</onlink>
<onlink>https://www.mrlc.gov/data-services-page</onlink>
</citeinfo>
</citation>
<descript>
<abstract>The U.S. Geological Survey (USGS), in partnership with several federal agencies, has developed and released four
National Land Cover Database (NLCD) products over the past two decades: NLCD 1992, 2001, 2006, and 2011.
These products provide spatially explicit and reliable information on the Nation’s land cover and land cover
change. To continue the legacy of NLCD and further establish a long-term monitoring capability for the Nation’s
land resources, the USGS has designed a new generation of NLCD products named NLCD 2016. The NLCD 2016
design aims to provide innovative, consistent, and robust methodologies for production of a multi-temporal land
cover and land cover change database from 2001 to 2016 at 2–3-year intervals. Comprehensive research was
conducted and resulted in developed strategies for NLCD 2016: a streamlined process for assembling and preprocessing
Landsat imagery and geospatial ancillary datasets; a multi-source integrated training data development
and decision-tree based land cover classifications; a temporally, spectrally, and spatially integrated land
cover change analysis strategy; a hierarchical theme-based post-classification and integration protocol for
generating land cover and change products; a continuous fields biophysical parameters modeling method; and
an automated scripted operational system for the NLCD 2016 production. The performance of the developed
strategies and methods were tested in twenty World Reference System-2 path/row throughout the conterminous
U.S. An overall agreement ranging from 71% to 97% between land cover classification and reference data was
achieved for all tested area and all years. Results from this study confirm the robustness of this comprehensive
and highly automated procedure for NLCD 2016 operational mapping.
Questions about the NLCD 2016 land cover product can be directed to the NLCD 2016 land cover mapping team at USGS EROS, Sioux Falls, SD (605) 594-6151 or mrlc@usgs.gov. See included spatial metadata for more details.</abstract>
<purpose>The goal of this project is to provide the Nation with complete, current, and consistent public domain information on its land use and land cover.</purpose>
<supplinf>Corner Coordinates (center of pixel, projection meters)
Upper Left Corner: -2493045 meters(X), 3310005 meters(Y)
Lower Right Corner: 2342655 meters(X), 177285 meters(Y)</supplinf>
</descript>
<timeperd>
<timeinfo>
<rngdates>
<begdate>2001</begdate>
<enddate>2016</enddate>
</rngdates>
</timeinfo>
<current>ground condition</current>
</timeperd>
<status>
<progress>In work</progress>
<update>Every 2-3 years</update>
</status>
<spdom>
<bounding>
<westbc>-116.2242</westbc>
<eastbc>-108.1167</eastbc>
<northbc>37.7733</northbc>
<southbc>30.5073</southbc>
</bounding>
</spdom>
<keywords>
<theme>
<themekt>ISO 19115 Topic Category</themekt>
<themekey>biota</themekey>
<themekey>biota</themekey>
</theme>
<theme>
<themekt>NGDA Portfolio Themes</themekt>
<themekey>NGDA</themekey>
<themekey>National Geospatial Data Asset</themekey>
<themekey>Land Use Land Cover Theme</themekey>
</theme>
<theme>
<themekt>None</themekt>
<themekey>Land cover</themekey>
<themekey>Image processing</themekey>
<themekey>GIS</themekey>
<themekey>U.S. Geological Survey (USGS)</themekey>
<themekey>digital spatial data</themekey>
</theme>
<theme>
<themekt>U.S. Department of Commerce, 1995, (Countries, dependencies, areas of special sovereignty, and their principal administrative divisions, Federal Information Processing Standard 10-4): Washington, D.C., National Institute of Standards and Technology</themekt>
<themekey>United States</themekey>
<themekey>U.S.</themekey>
<themekey>US</themekey>
</theme>
<place>
<placekt>None</placekt>
<placekey>None</placekey>
</place>
</keywords>
<accconst>None</accconst>
<useconst>None</useconst>
<ptcontac>
<cntinfo>
<cntorgp>
<cntorg>U.S. Geological Survey</cntorg>
</cntorgp>
<cntpos>Customer Service Representative</cntpos>
<cntaddr>
<addrtype>mailing and physical</addrtype>
<address>47914 252nd Street</address>
<city>Sioux Falls</city>
<state>SD</state>
<postal>57198-0001</postal>
<country>USA</country>
</cntaddr>
<cntvoice>(605) 594-6151</cntvoice>
<cntemail>custserv@usgs.gov</cntemail>
</cntinfo>
</ptcontac>
<datacred>U.S. Geological Survey</datacred>
<secinfo>
<secsys>None</secsys>
<secclass>Unclassified</secclass>
<sechandl>N/A</sechandl>
</secinfo>
<native>Microsoft Windows 10; ESRI ArcCatalog 10.5.1</native>
</idinfo>
<dataqual>
<attracc>
<attraccr>A formal accuracy assessment has not been conducted for NLCD 2016 Land Cover, NLCD 2016 Land Cover Change, or NLCD 2016 Impervious Surface products.</attraccr>
<qattracc>
<attraccv>Unknown</attraccv>
<attracce>This document and the described land cover map are considered "provisional" until a formal accuracy assessment is completed. The U.S. Geological Survey can make no guarantee as to the accuracy or completeness of this information, and it is provided with the understanding that it is not guaranteed to be correct or complete. Conclusions drawn from this information are the responsibility of the user.</attracce>
</qattracc>
</attracc>
<logic>The NLCD 2016 final seamless products include: 1) NLCD 2016 Land Cover; 2) NLCD 2016 Impervious Surface; 3) NLCD 2016 Land Cover Change Index.</logic>
<complete>This NLCD product is the version dated January, 2019.</complete>
<posacc>
<horizpa>
<horizpar>N/A</horizpar>
</horizpa>
<vertacc>
<vertaccr>N/A</vertaccr>
</vertacc>
</posacc>
<lineage>
<procstep>
<procdesc>NLCD 2016 Land Cover Process Step
National Land Cover Database (NLCD) land cover data is fundamentally based on the analysis of Landsat data. Approximately 3,608 Landsat scenes are required for NLCD 2016 (this total does not include additional scenes needed for cloud/shadow fill). Using automated scripts, Landsat scenes were selected for seven target years: 2001, 2003, 2006, 2008, 2011, 2013, and 2016. All scenes with cloud cover less than 20 percent were downloaded and one cloud-free, leaf-on image was selected for each path/row in each year. In addition, one leaf-off image was added for 2016 only.
If no cloud-free images were available for the target year, then an alternate cloud-free image was selected either one year before or one year after the target. If there was still significant cloud cover, then up to three fill images were selected and applied in a process to remove clouds, cloud shadow, smoke, or other artifacts. Other input datasets include: NLCD 2001, 2006, and 2011; 3D Elevation Program (3DEP) digital elevation data; Coastal Change Analysis Program (C-CAP) land cover; Cropland Data Layer (CDL); National Wetlands Inventory (NWI); Soil Survey Geographic (SSURGO) Database; and State Soil Geographic (STATSGO2) Database. SSURGO (with STATSGO2 to fill in gaps) was the basis for a hydric soils data layer used in training data assembly.
NLCD 2016 is produced by modeling land cover change over seven intervals between 2001 and 2016, with consistent change trajectories built into the process. The first set of models in this process are for multi-spectral change detection. The Multi-Index Integrated Change Analysis (MIICA) model outputs a change map between two dates of imagery. Five spectral indices are also calculated, and a disturbance map is produced by the Vegetation Change Tracker (VCT) software. The MIICA outputs, the five spectral indices, and the 1986 to 2016 disturbance map are the inputs to the training dataset assembly stage.
A set of models was developed to assemble a training dataset for each land cover class for each of the seven target years. The training dataset models were built with Landsat images and derived indices, spectral change products, trajectory analysis, and ancillary data: NLCD 2001, 2006, and 2011; C-CAP land cover; CDL; NWI; a cultivated cropland 2008 to 2016 dataset; and a hydric soils dataset. Image segmentation was performed on the Landsat scenes, and the resulting image objects were used to mitigate noise in the training data. The final output of this stage is training data for each of the seven target years, for input into the initial land cover classification stage.
For each of the seven target years of Landsat data, two percent of all available training data per path/row was drawn from the data as training samples, and one percent was drawn as validation samples. The C5 decision tree classification software was run on the training samples to generate a set of rules, and the decision rules were applied to generate a land cover classification for each of the seven target years.
The C5 software was run with four sets of independent variables: the 1986 to 2016 disturbance year data derived from VCT; the set of Landsat images; compactness indices from image segmentation; and a DEM and its derivatives. The classifier was run twice, once with all land cover classes processed and the 1986 to 2016 disturbance year data included, and again with two classes - Urban and Water - omitted from the classification and the disturbance year data not included in processing.
The two classifications were integrated with ancillary data and the segmentation polygons to produce seven initial land cover maps.
A post-classification refinement process was developed to correct classification errors in each target year, check for consistency of land cover labels over time, and improve spatial coherence of land cover distribution. Refinement was conducted class-by-class in hierarchical order: (1) Water, (2) Wetlands, (3) Forest and forest transition, (4) Permanent snow, (5) Agricultural lands, and (6) Persistent shrubland and herbaceous. Models were developed for refinement of each class and each type of confusion. For example, confusion between coniferous forest and water, both spectrally "dark" could be corrected by reclassifying water to coniferous forest where slope was greater than 2 percent. Confusion between forest and cropland could be mitigated with CDL data, and so forth.
The final integration step resolved class label issues pertinent to local environments (such as coastal areas), and, for land cover classes other than Water and Developed, ensured that all pixels in a segmentation object were in the same class. Pixel-based and object-based land cover labels were checked for differences, which were reconciled by a rule-based model. Water and Developed classes kept pixel values intact even in areas that were smaller than segmentation objects. Change trajectories for each class were checked for consistency through the seven target years.</procdesc>
<srcused>Landsat ETM, Landsat TM, DEM, USGS/EROS</srcused>
<procdate>2016</procdate>
<srcprod>USGS National Land Cover Database</srcprod>
</procstep>
<procstep>
<procdesc>National NLCD datasets downloaded from https://www.mrlc.gov/ was were clipped to the Arizona State boundary (https://azgeo-open-data-agic.hub.arcgis.com/datasets/azgeo::arizona-state-boundary?geometry=-131.548%2C30.968%2C-92.393%2C37.327).</procdesc>
<procdate>20210429</procdate>
</procstep>
</lineage>
</dataqual>
<spdoinfo>
<direct>Raster</direct>
<rastinfo>
<rasttype>Grid Cell</rasttype>
<rowcount>23882</rowcount>
<colcount>20997</colcount>
<vrtcount>1</vrtcount>
</rastinfo>
</spdoinfo>
<spref>
<horizsys>
<planar>
<planci>
<plance>row and column</plance>
<coordrep>
<absres>30.0</absres>
<ordres>30.0</ordres>
</coordrep>
<plandu>meters</plandu>
</planci>
</planar>
<geodetic>
<horizdn>WGS_1984</horizdn>
<ellips>WGS_84</ellips>
<semiaxis>6378137.0</semiaxis>
<denflat>298.257223563</denflat>
</geodetic>
</horizsys>
</spref>
<eainfo>
<detailed Name="NLCD_2016_Land_Cover_L48_20190424.img.vat">
<enttyp>
<enttypl>None</enttypl>
<enttypd>NLCD Land Cover Layer</enttypd>
<enttypds>National Land Cover Database</enttypds>
<enttypt Sync="TRUE">Table</enttypt>
<enttypc Sync="TRUE">17</enttypc>
</enttyp>
<attr>
<attrlabl Sync="TRUE">OID</attrlabl>
<attalias Sync="TRUE">OID</attalias>
<attrtype Sync="TRUE">OID</attrtype>
<attwidth Sync="TRUE">4</attwidth>
<atprecis Sync="TRUE">0</atprecis>
<attscale Sync="TRUE">0</attscale>
<attrdef Sync="TRUE">Internal feature number.</attrdef>
<attrdefs Sync="TRUE">Esri</attrdefs>
<attrdomv>
<udom Sync="TRUE">Sequential unique whole numbers that are automatically generated.</udom>
</attrdomv>
</attr>
<attr>
<attrlabl>Count</attrlabl>
<attrdef>A nominal integer value that designates the number of pixels that have each value in the file; histogram column in ERDAS Imagine raster attributes table</attrdef>
<attrdefs>ESRI</attrdefs>
<attrdomv>
<udom>Integer</udom>
</attrdomv>
<attalias Sync="TRUE">Count</attalias>
<attrtype Sync="TRUE">Double</attrtype>
<attwidth Sync="TRUE">19</attwidth>
<atprecis Sync="TRUE">0</atprecis>
<attscale Sync="TRUE">0</attscale>
</attr>
<attr>
<attrlabl>Value</attrlabl>
<attrdef>Land Cover Class Code Value.</attrdef>
<attrdefs>NLCD Legend Land Cover Class Descriptions</attrdefs>
<attrdomv>
<edom>
<edomv>11</edomv>
<edomvd>Open Water - All areas of open water, generally with less than 25% cover or vegetation or soil</edomvd>
<edomvds>NLCD Legend Land Cover Class Descriptions</edomvds>
</edom>
</attrdomv>
<attrdomv>
<edom>
<edomv>12</edomv>
<edomvd>Perennial Ice/Snow - All areas characterized by a perennial cover of ice and/or snow, generally greater than 25% of total cover.</edomvd>
<edomvds>NLCD Legend Land Cover Class Descriptions</edomvds>
</edom>
</attrdomv>
<attrdomv>
<edom>
<edomv>21</edomv>
<edomvd>Developed, Open Space - Includes areas with a mixture of some constructed materials, but mostly vegetation in the form of lawn grasses. Impervious surfaces account for less than 20 percent of total cover. These areas most commonly include large-lot single-family housing units, parks, golf courses, and vegetation planted in developed settings for recreation, erosion control, or aesthetic purposes.</edomvd>
<edomvds>NLCD Legend Land Cover Class Descriptions</edomvds>
</edom>
</attrdomv>
<attrdomv>
<edom>
<edomv>22</edomv>
<edomvd>Developed, Low Intensity -Includes areas with a mixture of constructed materials and vegetation. Impervious surfaces account for 20-49 percent of total cover. These areas most commonly include single-family housing units.</edomvd>
<edomvds>NLCD Legend Land Cover Class Descriptions</edomvds>
</edom>
</attrdomv>
<attrdomv>
<edom>
<edomv>23</edomv>
<edomvd>Developed, Medium Intensity - Includes areas with a mixture of constructed materials and vegetation. Impervious surfaces account for 50-79 percent of the total cover. These areas most commonly include single-family housing units.</edomvd>
<edomvds>NLCD Legend Land Cover Class Descriptions</edomvds>
</edom>
</attrdomv>
<attrdomv>
<edom>
<edomv>24</edomv>
<edomvd>Developed, High Intensity - Includes highly developed areas where people reside or work in high numbers. Examples include apartment complexes, row houses and commercial/industrial. Impervious surfaces account for 80 to 100 percent of the total cover.</edomvd>
<edomvds>NLCD Legend Land Cover Class Descriptions</edomvds>
</edom>
</attrdomv>
<attrdomv>
<edom>
<edomv>31</edomv>
<edomvd>Barren Land (Rock/Sand/Clay) - Barren areas of bedrock, desert pavement, scarps, talus, slides, volcanic material, glacial debris, sand dunes, strip mines, gravel pits and other accumulations of earthen material. Generally, vegetation accounts for less than 15% of total cover.</edomvd>
<edomvds>NLCD Legend Land Cover Class Descriptions</edomvds>
</edom>
</attrdomv>
<attrdomv>
<edom>
<edomv>41</edomv>
<edomvd>Deciduous Forest - Areas dominated by trees generally greater than 5 meters tall, and greater than 20% of total vegetation cover. More than 75 percent of the tree species shed foliage simultaneously in response to seasonal change.</edomvd>
<edomvds>NLCD Legend Land Cover Class Descriptions</edomvds>
</edom>
</attrdomv>
<attrdomv>
<edom>
<edomv>42</edomv>
<edomvd>Evergreen Forest - Areas dominated by trees generally greater than 5 meters tall, and greater than 20% of total vegetation cover. More than 75 percent of the tree species maintain their leaves all year. Canopy is never without green foliage.</edomvd>
<edomvds>NLCD Legend Land Cover Class Descriptions</edomvds>
</edom>
</attrdomv>
<attrdomv>
<edom>
<edomv>43</edomv>
<edomvd>Mixed Forest - Areas dominated by trees generally greater than 5 meters tall, and greater than 20% of total vegetation cover. Neither deciduous nor evergreen species are greater than 75 percent of total tree cover.</edomvd>
<edomvds>NLCD Legend Land Cover Class Descriptions</edomvds>
</edom>
</attrdomv>
<attrdomv>
<edom>
<edomv>51</edomv>
<edomvd>Dwarf Scrub - Alaska only areas dominated by shrubs less than 20 centimeters tall with shrub canopy typically greater than 20% of total vegetation. This type is often co-associated with grasses, sedges, herbs, and non-vascular vegetation.</edomvd>
<edomvds>NLCD Legend Land Cover Class Descriptions</edomvds>
</edom>
</attrdomv>
<attrdomv>
<edom>
<edomv>52</edomv>
<edomvd>Shrub/Scrub - Areas dominated by shrubs; less than 5 meters tall with shrub canopy typically greater than 20% of total vegetation. This class includes true shrubs, young trees in an early successional stage or trees stunted from environmental conditions.</edomvd>
<edomvds>NLCD Legend Land Cover Class Descriptions</edomvds>
</edom>
</attrdomv>
<attrdomv>
<edom>
<edomv>71</edomv>
<edomvd>Grassland/Herbaceous - Areas dominated by grammanoid or herbaceous vegetation, generally greater than 80% of total vegetation. These areas are not subject to intensive management such as tilling, but can be utilized for grazing.</edomvd>
<edomvds>NLCD Legend Land Cover Class Descriptions</edomvds>
</edom>
</attrdomv>
<attrdomv>
<edom>
<edomv>72</edomv>
<edomvd>Sedge/Herbaceous - Alaska only areas dominated by sedges and forbs, generally greater than 80% of total vegetation. This type can occur with significant other grasses or other grass like plants, and includes sedge tundra, and sedge tussock tundra.</edomvd>
<edomvds>NLCD Legend Land Cover Class Descriptions</edomvds>
</edom>
</attrdomv>
<attrdomv>
<edom>
<edomv>73</edomv>
<edomvd>Lichens - Alaska only areas dominated by fruticose or foliose lichens generally greater than 80% of total vegetation.</edomvd>
<edomvds>NLCD Legend Land Cover Class Descriptions</edomvds>
</edom>
</attrdomv>
<attrdomv>
<edom>
<edomv>74</edomv>
<edomvd>Moss - Alaska only areas dominated by mosses, generally greater than 80% of total vegetation.</edomvd>
<edomvds>NLCD Legend Land Cover Class Descriptions</edomvds>
</edom>
</attrdomv>
<attrdomv>
<edom>
<edomv>81</edomv>
<edomvd>Pasture/Hay - Areas of grasses, legumes, or grass-legume mixtures planted for livestock grazing or the production of seed or hay crops, typically on a perennial cycle. Pasture/hay vegetation accounts for greater than 20 percent of total vegetation.</edomvd>
<edomvds>NLCD Legend Land Cover Class Descriptions</edomvds>
</edom>
</attrdomv>
<attrdomv>
<edom>
<edomv>82</edomv>
<edomvd>Cultivated Crops - Areas used for the production of annual crops, such as corn, soybeans, vegetables, tobacco, and cotton, and also perennial woody crops such as orchards and vineyards. Crop vegetation accounts for greater than 20 percent of total vegetation. This class also includes all land being actively tilled.</edomvd>
<edomvds>NLCD Legend Land Cover Class Descriptions</edomvds>
</edom>
</attrdomv>
<attrdomv>
<edom>
<edomv>90</edomv>
<edomvd>Woody Wetlands - Areas where forest or shrub land vegetation accounts for greater than 20 percent of vegetative cover and the soil or substrate is periodically saturated with or covered with water.</edomvd>
<edomvds>NLCD Legend Land Cover Class Descriptions</edomvds>
</edom>
</attrdomv>
<attrdomv>
<edom>
<edomv>95</edomv>
<edomvd>Emergent Herbaceous Wetlands - Areas where perennial herbaceous vegetation accounts for greater than 80 percent of vegetative cover and the soil or substrate is periodically saturated with or covered with water.</edomvd>
<edomvds>NLCD Legend Land Cover Class Descriptions</edomvds>
</edom>
</attrdomv>
<attalias Sync="TRUE">Value</attalias>
<attrtype Sync="TRUE">Integer</attrtype>
<attwidth Sync="TRUE">10</attwidth>
<atprecis Sync="TRUE">10</atprecis>
<attscale Sync="TRUE">0</attscale>
</attr>
<attr>
<attrlabl>Red</attrlabl>
<attrdef>Red color code for RGB. The value is arbitrarily assigned by the display software package, unless defined by user.</attrdef>
<attrdefs>NLCD</attrdefs>
<attrdomv>
<rdom>
<rdommin>0</rdommin>
<rdommax>100</rdommax>
<attrunit>Percentage</attrunit>
<attrmres>0.1</attrmres>
</rdom>
</attrdomv>
<attalias Sync="TRUE">Red</attalias>
<attrtype Sync="TRUE">Integer</attrtype>
<attwidth Sync="TRUE">10</attwidth>
<atprecis Sync="TRUE">10</atprecis>
<attscale Sync="TRUE">0</attscale>
</attr>
<attr>
<attrlabl>Green</attrlabl>
<attrdef>Green color code for RGB. The value is arbitrarily assigned by the display software package, unless defined by user.</attrdef>
<attrdefs>NLCD</attrdefs>
<attrdomv>
<rdom>
<rdommin>0</rdommin>
<rdommax>100</rdommax>
<attrunit>Percentage</attrunit>
<attrmres>0.1</attrmres>
</rdom>
</attrdomv>
<attalias Sync="TRUE">Green</attalias>
<attrtype Sync="TRUE">Integer</attrtype>
<attwidth Sync="TRUE">10</attwidth>
<atprecis Sync="TRUE">10</atprecis>
<attscale Sync="TRUE">0</attscale>
</attr>
<attr>
<attrlabl>Blue</attrlabl>
<attrdef>Blue color code for RGB. The value is arbitrarily assigned by the display software package, unless defined by user.</attrdef>
<attrdefs>NLCD</attrdefs>
<attrdomv>
<rdom>
<rdommin>0</rdommin>
<rdommax>100</rdommax>
<attrunit>Percentage</attrunit>
<attrmres>0.1</attrmres>
</rdom>
</attrdomv>
<attalias Sync="TRUE">Blue</attalias>
<attrtype Sync="TRUE">Integer</attrtype>
<attwidth Sync="TRUE">10</attwidth>
<atprecis Sync="TRUE">10</atprecis>
<attscale Sync="TRUE">0</attscale>
</attr>
<attr>
<attrlabl Sync="TRUE">NLCD_Land</attrlabl>
<attalias Sync="TRUE">NLCD_Land</attalias>
<attrtype Sync="TRUE">String</attrtype>
<attwidth Sync="TRUE">254</attwidth>
<atprecis Sync="TRUE">0</atprecis>
<attscale Sync="TRUE">0</attscale>
</attr>
<attr>
<attrlabl>Opacity</attrlabl>
<attrdef>A measure of how opaque, or solid, a color is displayed in a layer.</attrdef>
<attrdefs>NLCD</attrdefs>
<attrdomv>
<rdom>
<rdommin>0</rdommin>
<rdommax>100</rdommax>
<attrunit>Percentage</attrunit>
<attrmres>0.1</attrmres>
</rdom>
</attrdomv>
<attalias Sync="TRUE">Opacity</attalias>
<attrtype Sync="TRUE">Integer</attrtype>
<attwidth Sync="TRUE">10</attwidth>
<atprecis Sync="TRUE">10</atprecis>
<attscale Sync="TRUE">0</attscale>
</attr>
</detailed>
<overview>
<eaover>Land Cover Class RGB Color Value Table</eaover>
